BEGIN:VCALENDAR
VERSION:2.0
PRODID:-//Tukios.com/
BEGIN:VEVENT
UID:f6f44119-6722-41b1-a121-9dfa93df89eb@www.donovanfuneralhome.com
DTSTAMP:20260422T191159Z
DTSTART:20260509T173000Z
DTEND:20260509T183000Z
SUMMARY:Funeral Service
DESCRIPTION:
URL:https://www.donovanfuneralhome.com/obituaries/david-schwaben-jr
LOCATION:First Church 464 Northeast Avenue  Tallmadge OH 44278
GEO:41.108955;-81.4264309
END:VEVENT
END:VCALENDAR