BEGIN:VCALENDAR
VERSION:2.0
PRODID:-//Tukios.com/
BEGIN:VEVENT
UID:c9334b46-5d8d-4a88-bbe8-9b4b2d6e5d2c@www.donovanfuneralhome.com
DTSTAMP:20260421T173021Z
DTSTART:20260429T144500Z
DTEND:20260429T154500Z
SUMMARY:Funeral Service
DESCRIPTION:
URL:https://www.donovanfuneralhome.com/obituaries/larry-bader
LOCATION:Ohio Western Reserve National Cemetery 10175 Rawiga Road  
	Seville OH 44273
GEO:40.9958882;-81.8152461
END:VEVENT
END:VCALENDAR