BEGIN:VCALENDAR
VERSION:2.0
PRODID:-//Tukios.com/
BEGIN:VEVENT
UID:88cc5b87-5a75-4a4a-b8ba-d2375984deda@www.donovanfuneralhome.com
DTSTAMP:20260423T085713Z
DTSTART:20260418T160000Z
DTEND:20260418T170000Z
SUMMARY:Funeral Service
DESCRIPTION:
URL:https://www.donovanfuneralhome.com/obituaries/norma-nena-davies
LOCATION:Donovan Funeral Home 17 Southwest Ave  Tallmadge OH 44278
GEO:41.1002254;-81.4426432
END:VEVENT
END:VCALENDAR