BEGIN:VCALENDAR
VERSION:2.0
PRODID:-//Tukios.com/
BEGIN:VEVENT
UID:ca4d65f1-6bf4-429f-86a9-3eb56ee4016e@www.donovanfuneralhome.com
DTSTAMP:20260422T001048Z
DTSTART:20260501T200000Z
DTEND:20260501T230000Z
SUMMARY:Visitation
DESCRIPTION:
URL:https://www.donovanfuneralhome.com/obituaries/priscilla-johnson
LOCATION: 17 Southwest Ave  Tallmadge OH 44278
GEO:41.1002254;-81.4426432
END:VEVENT
END:VCALENDAR