BEGIN:VCALENDAR
VERSION:2.0
PRODID:-//Tukios.com/
BEGIN:VEVENT
UID:7a03cb3e-67ce-402d-9599-6d7fa49a3835@www.donovanfuneralhome.com
DTSTAMP:20260422T001116Z
DTSTART:20260501T230000Z
DTEND:20260502T000000Z
SUMMARY:Other
DESCRIPTION:
URL:https://www.donovanfuneralhome.com/obituaries/priscilla-johnson
LOCATION: 17 Southwest Ave  Tallmadge OH 44278
GEO:41.1002254;-81.4426432
END:VEVENT
END:VCALENDAR