BEGIN:VCALENDAR
VERSION:2.0
PRODID:-//Tukios.com/
BEGIN:VEVENT
UID:069ed7e4-bee7-4fbe-88d2-8b639976ba00@www.donovanfuneralhome.com
DTSTAMP:20260422T000911Z
DTSTART:20260502T150000Z
DTEND:20260502T160000Z
SUMMARY:Funeral Service
DESCRIPTION:
URL:https://www.donovanfuneralhome.com/obituaries/priscilla-johnson
LOCATION: 17 Southwest Ave  Tallmadge OH 44278
GEO:41.1002254;-81.4426432
END:VEVENT
END:VCALENDAR