BEGIN:VCALENDAR
VERSION:2.0
PRODID:-//Tukios.com/
BEGIN:VEVENT
UID:0fb8180b-8dba-4ec7-a23d-af380b7ceda3@www.donovanfuneralhome.com
DTSTAMP:20260420T083139Z
DTSTART:20221123T230000Z
DTEND:20221124T000000Z
SUMMARY:Memorial Service
DESCRIPTION:
URL:https://www.donovanfuneralhome.com/obituaries/toni-chamberlain
LOCATION:Donovan Funeral Home - Tallmadge 17 Southwest Ave  Tallmadge OH 
	44278
GEO:41.1002254;-81.4426432
END:VEVENT
END:VCALENDAR